BEGIN:VCALENDAR
VERSION:2.0
PRODID:Events Booking
BEGIN:VEVENT
UID:69e9c4f9791b9
SUMMARY:Childrens Activity: Arts and Crafts at the Pump Rooms\, 4-12 years
DESCRIPTION:
LOCATION:Pump Room Gardens\, Leamington Spa CV32 4AA\, UK
DTSTART:20191101T121500Z
DTEND:20191101T140000Z
DTSTAMP:20260423T080633Z
ORGANIZER;CN=ILEAP Charity:MAILTO:sparkle@ileap.co.uk
GEO:52.287099;-1.534414
X-APPLE-STRUCTURED-LOCATION;VALUE=URI;X-ADDRESS=Pump Room Gardens\, Leaming
 ton Spa CV32 4AA\, UK;X-APPLE-RADIUS=72;X-TITLE=Pump Rooms:52.287099;-1.53
 4414
END:VEVENT
END:VCALENDAR