BEGIN:VCALENDAR
VERSION:2.0
PRODID:Events Booking
BEGIN:VEVENT
UID:69e9cb9bc80e4
SUMMARY:Children's Activity: October Half Term Saturday Tea Party\, 4 - 12 
 years 
DESCRIPTION:
LOCATION:Shipston Rd\, Alderminster\, Stratford-upon-Avon CV37 8LU
DTSTART:20191102T151500Z
DTEND:20191102T170000Z
DTSTAMP:20260423T083451Z
ORGANIZER;CN=ILEAP Charity:MAILTO:sparkle@ileap.co.uk
GEO:52.180337;-1.700033
X-APPLE-STRUCTURED-LOCATION;VALUE=URI;X-ADDRESS=Shipston Rd\, Alderminster\
 , Stratford-upon-Avon CV37 8LU;X-APPLE-RADIUS=72;X-TITLE=The Rosebird Comm
 unity Hall:52.180337;-1.700033
END:VEVENT
END:VCALENDAR