BEGIN:VCALENDAR
VERSION:2.0
PRODID:Events Booking
BEGIN:VEVENT
UID:69e9c4b2d86c6
SUMMARY:Childrens Activity: Splash and Slide Fun Swim\, 4 - 8 years
DESCRIPTION:
LOCATION:Newbold terrace East\, Leamington Spa\, CV32 4EW
DTSTART:20191030T111500Z
DTEND:20191030T124500Z
DTSTAMP:20260423T080522Z
ORGANIZER;CN=ILEAP Charity:MAILTO:sparkle@ileap.co.uk
GEO:52.290019;-1.518538
X-APPLE-STRUCTURED-LOCATION;VALUE=URI;X-ADDRESS=Newbold terrace East\, Leam
 ington Spa\, CV32 4EW;X-APPLE-RADIUS=72;X-TITLE=Newbold Comyn Leisure Cent
 re:52.290019;-1.518538
END:VEVENT
END:VCALENDAR