BEGIN:VCALENDAR
VERSION:2.0
PRODID:Events Booking
BEGIN:VEVENT
UID:69ed63fe0f5dc
SUMMARY:ILEAP into Football and Multi-Sports with Fitt 4 Kids for 6 -13 yea
 r olds: Spring Term 5pm - 6pm
DESCRIPTION:Join us for this great session at Stratford Leisure Centre Spor
 ts Hall.
 It’s all about sporty themed Fun and Friendship.
 We won’t
  be too competitive\, and we'll make sure you stay safe while getting some
  exercise. Qualified Coaches from our partners at Fitt 4 Kids will deliver
  the session alongside ILEAP staff.
 Parents will need to stay local\, ju
 st in case they are needed but there is a cafe on site or a great gym you 
 can pay to use.
 This session runs term time on a Friday.
 &nbsp\;
 Dat
 es for Spring Term 25 are:
 10th\, 17th\, 24th\, 31st&nbsp\;January
 7th
 \, 14th&nbsp\;and 28th&nbsp\;February
 7th\, 14th\, 21th&nbsp\;and 28th&n
 bsp\;March
 4th&nbsp\;and 11th&nbsp\;April
LOCATION:Bridge Foot\, Stratford-upon-Avon CV37 6yx\, UK
DTSTART:20250411T160000Z
DTEND:20250411T170000Z
DTSTAMP:20240926T150059Z
ORGANIZER;CN=ILEAP Charity:MAILTO:sparkle@ileap.co.uk
GEO:52.194668;-1.700264
X-APPLE-STRUCTURED-LOCATION;VALUE=URI;X-ADDRESS=Bridge Foot\, Stratford-upo
 n-Avon CV37 6yx\, UK;X-APPLE-RADIUS=72;X-TITLE=Stratford Leisure Centre:52
 .194668;-1.700264
END:VEVENT
END:VCALENDAR