BEGIN:VCALENDAR
VERSION:2.0
PRODID:Events Booking
BEGIN:VEVENT
UID:69ec9df6cad2d
SUMMARY:Jr. Multi-Sensory Play Session : Autumn Term 2025: Ages 4-8 years: 
 10.30am-11.30am
DESCRIPTION:Join Becca and Nic for this fabulous Multi-Sensory play session
 .
 Parents can grab a cuppa and chat whilst Becca and Nic take your littl
 e ones on a sensory adventure.
 From music and movement to messy play and
  Duplo/Lego there is plenty for everyone. &nbsp\;The session will end with
  a calm down sensory story.
 Parents can play and have fun with their chi
 ldren in a safe space where everyone is welcome.
 Once a month at the Ros
 ebird Centre in Stratford upon Avon.
 Voluntary contribution of £2.50\, 
 siblings are welcome to attend but all attendees need to be registered wit
 h ILEAP\, please. &nbsp\;Please be aware that Direct Payments are not mean
 t to be used for donations or gift aid.
 &nbsp\;Dates for Autumn Term 202
 5:
 1st November Firework and Not too spooky-tacular
 13th December Chri
 stmas Funland
LOCATION:Shipston Rd\, Alderminster\, Stratford-upon-Avon CV37 8LU
DTSTART:20251101T103000Z
DTEND:20251101T113000Z
DTSTAMP:20250918T101403Z
ORGANIZER;CN=ILEAP Charity:MAILTO:sparkle@ileap.co.uk
GEO:52.180337;-1.700033
X-APPLE-STRUCTURED-LOCATION;VALUE=URI;X-ADDRESS=Shipston Rd\, Alderminster\
 , Stratford-upon-Avon CV37 8LU;X-APPLE-RADIUS=72;X-TITLE=The Rosebird Comm
 unity Hall:52.180337;-1.700033
END:VEVENT
END:VCALENDAR