BEGIN:VCALENDAR
VERSION:2.0
PRODID:Events Booking
BEGIN:VEVENT
UID:69ed4bfe5107d
SUMMARY:Learn2Ride with ILEAP and RDA : Summer Term 2025: Ages 8+ years: 4.
 15pm - 5.15pm
DESCRIPTION:Our popular horse-riding session is back.
 You must book for t
 he whole term as you will be weighed and measured and allocated a horse at
  the first session\, they cannot weigh people after the first session\, so
  if you are looking to book after 29/04/25\, please email&nbsp\;sparkle@il
 eap.co.uk. &nbsp\;The first session of each term is a mechanical horse ass
 essment.
 ILEAP has teamed up with the Riding for&nbsp\;Disabled HQ at Lo
 wlands for an after-school&nbsp\;club to build your confidence around our 
 equine&nbsp\;friends whilst learning to ride. &nbsp\;
 The group of 6 is 
 split into two smaller groups\, each taking turns to ride in the manage.&n
 bsp\;&nbsp\;Beginners will be on guide ropes and each horse has a voluntee
 r to support the participants. As they gain experience and confidence\, pa
 rticipants will learn the techniques of steering\, trotting and cantering.
 
 Research has suggested that spending time with&nbsp\;animals in an outd
 oor environment is beneficial to&nbsp\;mental health and wellbeing.
 Plea
 se wear long trousers and long -sleeved jackets. &nbsp\;The riding school 
 can provide hats and boots for you to wear\, although you are welcome to b
 ring your own.
 Dates for Summer Term 25 are:
 29th&nbsp\;April
 6th\, 
 13th&nbsp\;and 20th&nbsp\;May
 3rd\, 10th\, 17th&nbsp\;and 24th&nbsp\;Jun
 e
 1st\, 8th\, 15th&nbsp\;and 22nd&nbsp\;July&nbsp\;
LOCATION:Lowlands Farm\, Old Warwick Road\, Shrewley\, CV35 7AX
DTSTART:20250429T144500Z
DTEND:20250429T161500Z
DTSTAMP:20240926T132439Z
ORGANIZER;CN=ILEAP Charity:MAILTO:sparkle@ileap.co.uk
GEO:52.308721;-1.686083
X-APPLE-STRUCTURED-LOCATION;VALUE=URI;X-ADDRESS=Lowlands Farm\, Old Warwick
  Road\, Shrewley\, CV35 7AX;X-APPLE-RADIUS=72;X-TITLE=RDA National Trainin
 g Centre:52.308721;-1.686083
END:VEVENT
END:VCALENDAR