BEGIN:VCALENDAR
VERSION:2.0
PRODID:Events Booking
BEGIN:VEVENT
UID:69ed637cc92c5
SUMMARY:ILEAP to the Dice Box Games Cafe for Fun and Games in Easter Holida
 ys 2025\, for 12 yrs and over 
DESCRIPTION:Bring £ for drinks and a snack!
 Please can we meet you at 11
 am at the Dice Box and can you please collect members &nbsp\;from just out
 side The Vue cinema foyer\, time TBC
 Why not book for the afternoon Vue 
 Cinema session\, bring a packed lunch and spend the whole day with us\, we
  will support you over lunch!
LOCATION:137 Regent Street\, Leamington Spa\, CV32 4NX
DTSTART:20250416T100000Z
DTEND:20250416T000000Z
DTSTAMP:20260426T015940Z
ORGANIZER;CN=ILEAP Charity:MAILTO:sparkle@ileap.co.uk
GEO:52.290657;-1.532863
X-APPLE-STRUCTURED-LOCATION;VALUE=URI;X-ADDRESS=137 Regent Street\, Leaming
 ton Spa\, CV32 4NX;X-APPLE-RADIUS=72;X-TITLE=The Dice Box:52.290657;-1.532
 863
END:VEVENT
END:VCALENDAR