BEGIN:VCALENDAR
VERSION:2.0
PRODID:Events Booking
BEGIN:VEVENT
UID:69ed4bdb37d58
SUMMARY:Chill & Chat with your Mates
DESCRIPTION:
DTSTART:20200901T140000Z
DTEND:20200901T150000Z
DTSTAMP:20260426T001851Z
ORGANIZER;CN=ILEAP Charity:MAILTO:sparkle@ileap.co.uk
END:VEVENT
END:VCALENDAR