BEGIN:VCALENDAR
VERSION:2.0
PRODID:Events Booking
BEGIN:VEVENT
UID:69ed2770e5eab
SUMMARY:Chill & Chat with your Mates
DESCRIPTION:
DTSTART:20200818T140000Z
DTEND:20200818T150000Z
DTSTAMP:20260425T214328Z
ORGANIZER;CN=ILEAP Charity:MAILTO:sparkle@ileap.co.uk
END:VEVENT
END:VCALENDAR