BEGIN:VCALENDAR
VERSION:2.0
PRODID:Events Booking
BEGIN:VEVENT
UID:69ed2739b5f68
SUMMARY:ILEAP 2020 PET SHOW
DESCRIPTION:
DTSTART:20200810T170000Z
DTEND:20200810T180000Z
DTSTAMP:20260425T214233Z
ORGANIZER;CN=ILEAP Charity:MAILTO:sparkle@ileap.co.uk
END:VEVENT
END:VCALENDAR