BEGIN:VCALENDAR
VERSION:2.0
PRODID:Events Booking
BEGIN:VEVENT
UID:69e97f6e1880d
SUMMARY:ILEAP Summer Big Chill - 8 years and over 
DESCRIPTION:ILEAP&nbsp\;Big Chill Session.&nbsp\;
 Bring a Packed Lunch an
 d a drink and some £ for the Tuck Shop
LOCATION:Abbey End Car Park\, Abbey End\, Kenilworth CV8 1JP
DTSTART:20190731T110000Z
DTEND:20190731T140000Z
DTSTAMP:20260423T030950Z
ORGANIZER;CN=ILEAP Charity:MAILTO:sparkle@ileap.co.uk
GEO:52.344216;-1.578651
X-APPLE-STRUCTURED-LOCATION;VALUE=URI;X-ADDRESS=Abbey End Car Park\, Abbey 
 End\, Kenilworth CV8 1JP;X-APPLE-RADIUS=72;X-TITLE=The Kenilworth Centre:5
 2.344216;-1.578651
END:VEVENT
END:VCALENDAR