BEGIN:VCALENDAR
VERSION:2.0
PRODID:Events Booking
BEGIN:VEVENT
UID:69ed28110d4bf
SUMMARY:ILEAP Family Picnic in the Park
DESCRIPTION:
LOCATION:Mill Road\, Royal Leamington Spa\, CV31 1BH
DTSTART:20200816T113000Z
DTEND:20200816T140000Z
DTSTAMP:20260425T214609Z
ORGANIZER;CN=ILEAP Charity:MAILTO:sparkle@ileap.co.uk
GEO:52.288475;-1.526669
X-APPLE-STRUCTURED-LOCATION;VALUE=URI;X-ADDRESS=Mill Road\, Royal Leamingto
 n Spa\, CV31 1BH;X-APPLE-RADIUS=72;X-TITLE=Mill Gardens:52.288475;-1.52666
 9
END:VEVENT
END:VCALENDAR