BEGIN:VCALENDAR
VERSION:2.0
PRODID:Events Booking
BEGIN:VEVENT
UID:69ed284aab105
SUMMARY:ILEAP Family Picnic in the Park
DESCRIPTION:
LOCATION:Stratford-upon-Avon CV37 7PY
DTSTART:20200809T113000Z
DTEND:20200809T140000Z
DTSTAMP:20260425T214706Z
ORGANIZER;CN=ILEAP Charity:MAILTO:sparkle@ileap.co.uk
GEO:52.188711;-1.701877
X-APPLE-STRUCTURED-LOCATION;VALUE=URI;X-ADDRESS=Stratford-upon-Avon CV37 7P
 Y;X-APPLE-RADIUS=72;X-TITLE=Stratford Recreation Ground:52.188711;-1.70187
 7
END:VEVENT
END:VCALENDAR