BEGIN:VCALENDAR
VERSION:2.0
PRODID:Events Booking
BEGIN:VEVENT
UID:69ecff249acff
SUMMARY:ILEAP Holiday Games Sessions
DESCRIPTION:
LOCATION:2A Livery Street\, Leamington Spa\, CV32 4NP
DTSTART:20250730T100000Z
DTEND:20250730T000000Z
DTSTAMP:20260425T185132Z
ORGANIZER;CN=ILEAP Charity:MAILTO:sparkle@ileap.co.uk
GEO:52.290465;-1.533817
X-APPLE-STRUCTURED-LOCATION;VALUE=URI;X-ADDRESS=2A Livery Street\, Leamingt
 on Spa\, CV32 4NP;X-APPLE-RADIUS=72;X-TITLE=Gamefinity Ltd:52.290465;-1.53
 3817
END:VEVENT
END:VCALENDAR