BEGIN:VCALENDAR
VERSION:2.0
PRODID:Events Booking
BEGIN:VEVENT
UID:69ed281189af1
SUMMARY:ILEAP (not to) Scary Bingo: Saturday Morning Fun
DESCRIPTION:
DTSTART:20200808T090000Z
DTEND:20200808T100000Z
DTSTAMP:20260425T214609Z
ORGANIZER;CN=ILEAP Charity:MAILTO:sparkle@ileap.co.uk
END:VEVENT
END:VCALENDAR