BEGIN:VCALENDAR
VERSION:2.0
PRODID:Events Booking
BEGIN:VEVENT
UID:69e9d8cab4df3
SUMMARY:Bank  Holidays
DESCRIPTION:ILEAP is closed today. Enjoy your bank holiday&nbsp\;
DTSTART:20260101T000000Z
DTEND:20260101T000000Z
DTSTAMP:20250416T085039Z
ORGANIZER;CN=ILEAP Charity:MAILTO:sparkle@ileap.co.uk
END:VEVENT
END:VCALENDAR