BEGIN:VCALENDAR
VERSION:2.0
PRODID:Events Booking
BEGIN:VEVENT
UID:69e9dc63b64a1
SUMMARY:ILEAP to the Cinema<br>8+ yrs
DESCRIPTION:for some morning movie fun.
LOCATION:Portland Place\, Leamington Spa CV32 5ET\, UK
DTSTART:20180828T090000Z
DTEND:20180828T110000Z
DTSTAMP:20260423T094627Z
ORGANIZER;CN=ILEAP Charity:MAILTO:sparkle@ileap.co.uk
GEO:52.288839;-1.53832
X-APPLE-STRUCTURED-LOCATION;VALUE=URI;X-ADDRESS=Portland Place\, Leamington
  Spa CV32 5ET\, UK;X-APPLE-RADIUS=72;X-TITLE=Vue Cinema:52.288839;-1.53832
END:VEVENT
END:VCALENDAR