BEGIN:VCALENDAR
VERSION:2.0
PRODID:Events Booking
BEGIN:VEVENT
UID:69e9d142d7cb0
SUMMARY:Pioneer Centre Outward Bound Residential
DESCRIPTION:
LOCATION:Action Centres UK Ltd\, Pioneer Centre\, Cleobury Mortimer\, Kidde
 rminster DY14 8JG
DTSTART:20191116T093000Z
DTEND:20191117T153000Z
DTSTAMP:20260423T085858Z
ORGANIZER;CN=ILEAP Charity:MAILTO:sparkle@ileap.co.uk
GEO:52.390317;-2.463437
X-APPLE-STRUCTURED-LOCATION;VALUE=URI;X-ADDRESS=Action Centres UK Ltd\, Pio
 neer Centre\, Cleobury Mortimer\, Kidderminster DY14 8JG;X-APPLE-RADIUS=72
 ;X-TITLE=The Pioneer Centre:52.390317;-2.463437
END:VEVENT
END:VCALENDAR