BEGIN:VCALENDAR
VERSION:2.0
PRODID:Events Booking
BEGIN:VEVENT
UID:69e8dba7da363
SUMMARY:Pioneer Centre Outward Bound Residential
DESCRIPTION:
DTSTART:20181117T093000Z
DTEND:20181118T153000Z
DTSTAMP:20260422T153103Z
ORGANIZER;CN=ILEAP Charity:MAILTO:sparkle@ileap.co.uk
END:VEVENT
END:VCALENDAR