BEGIN:VCALENDAR
VERSION:2.0
PRODID:Events Booking
BEGIN:VEVENT
UID:69e944a1de6aa
SUMMARY:Pioneer Centre Outward Bound Residential
DESCRIPTION:
LOCATION:Action Centres UK Ltd\, Pioneer Centre\, Cleobury Mortimer\, Kidde
 rminster DY14 8JG
DTSTART:20190427T083000Z
DTEND:20190428T143000Z
DTSTAMP:20260422T225857Z
ORGANIZER;CN=ILEAP Charity:MAILTO:sparkle@ileap.co.uk
GEO:52.390317;-2.463437
X-APPLE-STRUCTURED-LOCATION;VALUE=URI;X-ADDRESS=Action Centres UK Ltd\, Pio
 neer Centre\, Cleobury Mortimer\, Kidderminster DY14 8JG;X-APPLE-RADIUS=72
 ;X-TITLE=The Pioneer Centre:52.390317;-2.463437
END:VEVENT
END:VCALENDAR