BEGIN:VCALENDAR
VERSION:2.0
PRODID:Events Booking
BEGIN:VEVENT
UID:69ed4b794dced
SUMMARY:1:1 Zoom Stay Creative and Connected Session Mondays 15.30pm -16.30
 pm 
DESCRIPTION:
DTSTART:20200914T143000Z
DTEND:20200914T153000Z
DTSTAMP:20260426T001713Z
ORGANIZER;CN=ILEAP Charity:MAILTO:sparkle@ileap.co.uk
END:VEVENT
END:VCALENDAR