BEGIN:VCALENDAR
VERSION:2.0
PRODID:Events Booking
BEGIN:VEVENT
UID:69ed4bb638acd
SUMMARY:1:1 Zoom Stay Creative and Connected Session Thursdays 15.30pm -16.
 30pm 
DESCRIPTION:
DTSTART:20200924T143000Z
DTEND:20200924T153000Z
DTSTAMP:20260426T001814Z
ORGANIZER;CN=ILEAP Charity:MAILTO:sparkle@ileap.co.uk
END:VEVENT
END:VCALENDAR