BEGIN:VCALENDAR
VERSION:2.0
PRODID:Events Booking
BEGIN:VEVENT
UID:69e8ed2bb70bb
SUMMARY:ILEAP New Year 18th Birthday Celebratory Family Ball<br>Celebrating
  18 years of Fun & Friendship with ILEAP
DESCRIPTION:https://www.smore.com/hs2jn
LOCATION:Newbold Comyn Arms\, Newbold Terrace East\, Leamington Spa\, CV32 
 4EU 
DTSTART:20190103T173000Z
DTEND:20190103T213000Z
DTSTAMP:20260422T164547Z
ORGANIZER;CN=ILEAP Charity:MAILTO:sparkle@ileap.co.uk
GEO:52.291417;-1.517878
X-APPLE-STRUCTURED-LOCATION;VALUE=URI;X-ADDRESS=Newbold Comyn Arms\, Newbol
 d Terrace East\, Leamington Spa\, CV32 4EU ;X-APPLE-RADIUS=72;X-TITLE=Newb
 old Comyn Arms:52.291417;-1.517878
END:VEVENT
END:VCALENDAR