BEGIN:VCALENDAR
VERSION:2.0
PRODID:Events Booking
BEGIN:VEVENT
UID:69ed6353cb779
SUMMARY:ILEAP & SPOT Summer Holiday Drama: Tuesdays at the Wren Hall\, 14 y
 ears and over\, 27th July - 31st Aug
DESCRIPTION:
LOCATION:School Lane\, Wroxall\, Warwick CV35 7NF
DTSTART:20201013T170000Z
DTEND:20201013T190000Z
DTSTAMP:20260426T015859Z
ORGANIZER;CN=ILEAP Charity:MAILTO:sparkle@ileap.co.uk
GEO:52.339224;-1.670817
X-APPLE-STRUCTURED-LOCATION;VALUE=URI;X-ADDRESS=School Lane\, Wroxall\, War
 wick CV35 7NF;X-APPLE-RADIUS=72;X-TITLE=Wren Hall:52.339224;-1.670817
END:VEVENT
END:VCALENDAR