BEGIN:VCALENDAR
VERSION:2.0
PRODID:Events Booking
BEGIN:VEVENT
UID:69ecc7ad978ca
SUMMARY:Online Zoom Activity: Art Apart Mondays
DESCRIPTION:
DTSTART:20200420T140000Z
DTEND:20200420T150000Z
DTSTAMP:20260425T145453Z
ORGANIZER;CN=ILEAP Charity:MAILTO:sparkle@ileap.co.uk
END:VEVENT
END:VCALENDAR