BEGIN:VCALENDAR
VERSION:2.0
PRODID:Events Booking
BEGIN:VEVENT
UID:69ecdc08e8cca
SUMMARY:Online Zoom Activity: Drama Thursday Workshop 16 years and over 
DESCRIPTION:
DTSTART:20200521T170000Z
DTEND:20200521T180000Z
DTSTAMP:20260425T162144Z
ORGANIZER;CN=ILEAP Charity:MAILTO:sparkle@ileap.co.uk
END:VEVENT
END:VCALENDAR