BEGIN:VCALENDAR
VERSION:2.0
PRODID:Events Booking
BEGIN:VEVENT
UID:69ed4c0f065af
SUMMARY:1:1 Zoom Stay Creative and Connected Session 16.00pm -17.00pm 
DESCRIPTION:
DTSTART:20200918T150000Z
DTEND:20200918T160000Z
DTSTAMP:20260426T001943Z
ORGANIZER;CN=ILEAP Charity:MAILTO:sparkle@ileap.co.uk
END:VEVENT
END:VCALENDAR