BEGIN:VCALENDAR
VERSION:2.0
PRODID:Events Booking
BEGIN:VEVENT
UID:69ed4c67ade32
SUMMARY:Thursday 1:1 with Rosie Zoom Stay Creative and Connected Session 11
 .30am -12.30pm
DESCRIPTION:
DTSTART:20200924T103000Z
DTEND:20200924T113000Z
DTSTAMP:20260426T002111Z
ORGANIZER;CN=ILEAP Charity:MAILTO:sparkle@ileap.co.uk
END:VEVENT
END:VCALENDAR