BEGIN:VCALENDAR
VERSION:2.0
PRODID:Events Booking
BEGIN:VEVENT
UID:69ed3bcb785e1
SUMMARY:ILEAP Family Fun Swim Summer Term 2025
DESCRIPTION:&nbsp\;Every Sunday excluding Bank Holidays
 We welcome all sw
 immers young and old to this relaxed swim session.
 Our brilliant Volunte
 ers are on hand to offer encouragement and support from a safe distance
 
 Turn up with your Family / Carer and have full use of the pool with ILEAP 
 Volunteers in the water and lifeguards on the side\, making sure you are s
 afe and supported.
 Please book online and additional particpants on the 
 day pay £1
LOCATION:Bridge Foot\, Stratford-upon-Avon CV37 6yx\, UK
DTSTART:20250518T153000Z
DTEND:20250518T163000Z
DTSTAMP:20220315T155838Z
ORGANIZER;CN=ILEAP Charity:MAILTO:sparkle@ileap.co.uk
GEO:52.194668;-1.700264
X-APPLE-STRUCTURED-LOCATION;VALUE=URI;X-ADDRESS=Bridge Foot\, Stratford-upo
 n-Avon CV37 6yx\, UK;X-APPLE-RADIUS=72;X-TITLE=Stratford Leisure Centre:52
 .194668;-1.700264
END:VEVENT
END:VCALENDAR