BEGIN:VCALENDAR
VERSION:2.0
PRODID:Events Booking
BEGIN:VEVENT
UID:69ed160c3282b
SUMMARY:ILEAP Drama Club 2025:Tuesdays at The Sydni Centre (Formerly Wren H
 all): Summer Term: 14 years and over: 18.15 -20.15pm 
DESCRIPTION:Join the Ellen\, Rose and Charlie for this fantastic Drama sess
 ion\, at this brilliant venue for ILEAP Members aged 14 years and over.
 
 It will be the highlight of your week and will bring you on in ILEAPS and 
 Bounds!. &nbsp\;
 You are booking for the Summer term 2025
LOCATION:Cottage Square\, Leamington Spa CV31 1PT\, UK
DTSTART:20250708T173000Z
DTEND:20250708T193000Z
DTSTAMP:20211028T080113Z
ORGANIZER;CN=ILEAP Charity:MAILTO:sparkle@ileap.co.uk
GEO:52.281336;-1.514425
X-APPLE-STRUCTURED-LOCATION;VALUE=URI;X-ADDRESS=Cottage Square\, Leamington
  Spa CV31 1PT\, UK;X-APPLE-RADIUS=72;X-TITLE=The Sydni Centre:52.281336;-1
 .514425
END:VEVENT
END:VCALENDAR