BEGIN:VCALENDAR
VERSION:2.0
PRODID:Events Booking
BEGIN:VEVENT
UID:69ed4db929bfb
SUMMARY:ILEAP Friday Morning Dance: Summer Term 2025: 16 years and over 
DESCRIPTION:you are booking for the Summer Term 2025
 End the week in styl
 e with this funky Dance session with Nicola
 We start the day with a rela
 xed chat\, moving in gently to a relaxed dance session with Nicola slowly 
 building the tempo to all your favourite tunes!&nbsp\;
 After the session
  we will head off in a taxi to Ten Pin bowling
 (Book Ten Pin Session sep
 erately)&nbsp\;
 We are expecting a full house so you'll need to book ear
 ly and your booking for the term.
 Session runs every Friday through out 
 the year
 Remember you can donate and or fundraise for the ILEAP Charity 
 at www.justgiving.com/ileap&nbsp\;
 &nbsp\;
LOCATION:Abbey End Car Park\, Abbey End\, Kenilworth CV8 1JP
DTSTART:20250509T090000Z
DTEND:20250509T110000Z
DTSTAMP:20211028T085807Z
ORGANIZER;CN=ILEAP Charity:MAILTO:sparkle@ileap.co.uk
GEO:52.344216;-1.578651
X-APPLE-STRUCTURED-LOCATION;VALUE=URI;X-ADDRESS=Abbey End Car Park\, Abbey 
 End\, Kenilworth CV8 1JP;X-APPLE-RADIUS=72;X-TITLE=The Kenilworth Centre:5
 2.344216;-1.578651
END:VEVENT
END:VCALENDAR