BEGIN:VCALENDAR
VERSION:2.0
PRODID:Events Booking
BEGIN:VEVENT
UID:69e95c22b3c76
SUMMARY:ILEAP Midweek Meal in Warwick / Leamington or Kenilworth\, 16 years
  and over
DESCRIPTION:
LOCATION:168 Warwick Road\, Kenilworth\, CV81HS
DTSTART:20190619T173000Z
DTEND:20190619T200000Z
DTSTAMP:20260423T003914Z
ORGANIZER;CN=ILEAP Charity:MAILTO:sparkle@ileap.co.uk
GEO:52.337577;-1.57409
X-APPLE-STRUCTURED-LOCATION;VALUE=URI;X-ADDRESS=168 Warwick Road\, Kenilwor
 th\, CV81HS;X-APPLE-RADIUS=72;X-TITLE=The Green Man Kenilworth:52.337577;-
 1.57409
END:VEVENT
END:VCALENDAR