BEGIN:VCALENDAR
VERSION:2.0
PRODID:Events Booking
BEGIN:VEVENT
UID:69ed151db0cfc
SUMMARY:An online Dance and Music Session delivered by In2cultures
DESCRIPTION:
DTSTART:20200715T150000Z
DTEND:20200715T160000Z
DTSTAMP:20260425T202517Z
ORGANIZER;CN=ILEAP Charity:MAILTO:sparkle@ileap.co.uk
END:VEVENT
END:VCALENDAR