BEGIN:VCALENDAR
VERSION:2.0
PRODID:Events Booking
BEGIN:VEVENT
UID:69ecff811b9b9
SUMMARY:An online Dance and Music Session delivered by In2cultures
DESCRIPTION:
DTSTART:20200708T150000Z
DTEND:20200708T160000Z
DTSTAMP:20260425T185305Z
ORGANIZER;CN=ILEAP Charity:MAILTO:sparkle@ileap.co.uk
END:VEVENT
END:VCALENDAR