BEGIN:VCALENDAR
VERSION:2.0
PRODID:Events Booking
BEGIN:VEVENT
UID:69ecfeb5825cf
SUMMARY:An online Dance and Music Session delivered by In2cultures
DESCRIPTION:
DTSTART:20200624T150000Z
DTEND:20200624T160000Z
DTSTAMP:20260425T184941Z
ORGANIZER;CN=ILEAP Charity:MAILTO:sparkle@ileap.co.uk
END:VEVENT
END:VCALENDAR