BEGIN:VCALENDAR
VERSION:2.0
PRODID:Events Booking
BEGIN:VEVENT
UID:69e96f42275ab
SUMMARY:ILEAP and SpOt Drama Club present... A Jungle Jamboree
DESCRIPTION:
LOCATION:Old Town\, Stratford upon Avon
DTSTART:20190711T173000Z
DTEND:20190711T190000Z
DTSTAMP:20260423T020050Z
ORGANIZER;CN=ILEAP Charity:MAILTO:sparkle@ileap.co.uk
GEO:52.188296;-1.706761
X-APPLE-STRUCTURED-LOCATION;VALUE=URI;X-ADDRESS=Old Town\, Stratford upon A
 von;X-APPLE-RADIUS=72;X-TITLE=RSC's The Dell:52.188296;-1.706761
END:VEVENT
END:VCALENDAR