BEGIN:VCALENDAR
VERSION:2.0
PRODID:Events Booking
BEGIN:VEVENT
UID:69ed2807e07e3
SUMMARY:An online Dance and Music Session delivered by In2cultures: All Age
 s
DESCRIPTION:
DTSTART:20200812T150000Z
DTEND:20200812T160000Z
DTSTAMP:20260425T214559Z
ORGANIZER;CN=ILEAP Charity:MAILTO:sparkle@ileap.co.uk
END:VEVENT
END:VCALENDAR