BEGIN:VCALENDAR
VERSION:2.0
PRODID:Events Booking
BEGIN:VEVENT
UID:69ed4c0f05fd1
SUMMARY:An online Dance and Music Session delivered by In2cultures: All Age
 s 
DESCRIPTION:
DTSTART:20200916T150000Z
DTEND:20200916T160000Z
DTSTAMP:20260426T001943Z
ORGANIZER;CN=ILEAP Charity:MAILTO:sparkle@ileap.co.uk
END:VEVENT
END:VCALENDAR