BEGIN:VCALENDAR
VERSION:2.0
PRODID:Events Booking
BEGIN:VEVENT
UID:69ed4c672fc5c
SUMMARY:An online Dance and Music Session delivered by In2cultures: All Age
 s 
DESCRIPTION:
DTSTART:20200923T174500Z
DTEND:20200923T184500Z
DTSTAMP:20260426T002111Z
ORGANIZER;CN=ILEAP Charity:MAILTO:sparkle@ileap.co.uk
END:VEVENT
END:VCALENDAR