BEGIN:VCALENDAR
VERSION:2.0
PRODID:Events Booking
BEGIN:VEVENT
UID:69ed3bf3385d1
SUMMARY:An online Dance and Music Session delivered by In2cultures: All Age
 s
DESCRIPTION:
DTSTART:20200826T150000Z
DTEND:20200826T160000Z
DTSTAMP:20260425T231059Z
ORGANIZER;CN=ILEAP Charity:MAILTO:sparkle@ileap.co.uk
END:VEVENT
END:VCALENDAR