BEGIN:VCALENDAR
VERSION:2.0
PRODID:Events Booking
BEGIN:VEVENT
UID:69ed15a6630b4
SUMMARY:An online Dance and Music Session delivered by In2cultures: All Age
 s
DESCRIPTION:
DTSTART:20200729T150000Z
DTEND:20200729T160000Z
DTSTAMP:20260425T202734Z
ORGANIZER;CN=ILEAP Charity:MAILTO:sparkle@ileap.co.uk
END:VEVENT
END:VCALENDAR