BEGIN:VCALENDAR
VERSION:2.0
PRODID:Events Booking
BEGIN:VEVENT
UID:69ed153215989
SUMMARY:An online Dance and Music Session delivered by In2cultures: All Age
 s
DESCRIPTION:
DTSTART:20200722T150000Z
DTEND:20200722T160000Z
DTSTAMP:20260425T202538Z
ORGANIZER;CN=ILEAP Charity:MAILTO:sparkle@ileap.co.uk
END:VEVENT
END:VCALENDAR