BEGIN:VCALENDAR
VERSION:2.0
PRODID:Events Booking
BEGIN:VEVENT
UID:69e9c46f39c99
SUMMARY:Arts and Crafts at the Pump Rooms\, 12+ yrs
DESCRIPTION:
LOCATION:Pump Room Gardens\, Leamington Spa CV32 4AA\, UK
DTSTART:20191029T120000Z
DTEND:20191029T140000Z
DTSTAMP:20260423T080415Z
ORGANIZER;CN=ILEAP Charity:MAILTO:sparkle@ileap.co.uk
GEO:52.287099;-1.534414
X-APPLE-STRUCTURED-LOCATION;VALUE=URI;X-ADDRESS=Pump Room Gardens\, Leaming
 ton Spa CV32 4AA\, UK;X-APPLE-RADIUS=72;X-TITLE=Pump Rooms:52.287099;-1.53
 4414
END:VEVENT
END:VCALENDAR