BEGIN:VCALENDAR
VERSION:2.0
PRODID:Events Booking
BEGIN:VEVENT
UID:69e733d8732d7
SUMMARY:ILEAP Big Chill Saturday Club<br>8+ yrs
DESCRIPTION:&nbsp\;“Relax &amp\; Chill and do your own thing”
 Include
 s Sports\, Games\, Arts /Crafts\,&nbsp\;Music / Dance\, I.T
LOCATION:Abbey End Car Park\, Abbey End\, Kenilworth CV8 1JP
DTSTART:20180721T110000Z
DTEND:20180721T140000Z
DTSTAMP:20260421T092248Z
ORGANIZER;CN=ILEAP Charity:MAILTO:sparkle@ileap.co.uk
GEO:52.344216;-1.578651
X-APPLE-STRUCTURED-LOCATION;VALUE=URI;X-ADDRESS=Abbey End Car Park\, Abbey 
 End\, Kenilworth CV8 1JP;X-APPLE-RADIUS=72;X-TITLE=The Kenilworth Centre:5
 2.344216;-1.578651
END:VEVENT
END:VCALENDAR