BEGIN:VCALENDAR
VERSION:2.0
PRODID:Events Booking
BEGIN:VEVENT
UID:69e97f2e04d4c
SUMMARY:Breakfast\, Dance and Music Workshop with Phonic Hub<br>8 years and
  over 
DESCRIPTION:Enjoy a&nbsp\;social breakfast followed by a relaxing dance and
  music workshop with Jody from Phonic Hub.
 Price includes Breakfast and 
 a Taxi to Ten Pin Bowling if required.
LOCATION:Abbey End Car Park\, Abbey End\, Kenilworth CV8 1JP
DTSTART:20190802T090000Z
DTEND:20190802T113000Z
DTSTAMP:20260423T030846Z
ORGANIZER;CN=ILEAP Charity:MAILTO:sparkle@ileap.co.uk
GEO:52.344216;-1.578651
X-APPLE-STRUCTURED-LOCATION;VALUE=URI;X-ADDRESS=Abbey End Car Park\, Abbey 
 End\, Kenilworth CV8 1JP;X-APPLE-RADIUS=72;X-TITLE=The Kenilworth Centre:5
 2.344216;-1.578651
END:VEVENT
END:VCALENDAR