BEGIN:VCALENDAR
VERSION:2.0
PRODID:Events Booking
BEGIN:VEVENT
UID:69e9c48df3323
SUMMARY:Breakfast\, Dance\, Tai Chi and Music\, 12 years and over  
DESCRIPTION:ILEAP's Nicola will lead a relaxing dance session.
 Price incl
 udes Breakfast and a Taxi to Ten Pin Bowling if required.
LOCATION:Abbey End Car Park\, Abbey End\, Kenilworth CV8 1JP
DTSTART:20191101T100000Z
DTEND:20191101T123000Z
DTSTAMP:20260423T080445Z
ORGANIZER;CN=ILEAP Charity:MAILTO:sparkle@ileap.co.uk
GEO:52.344216;-1.578651
X-APPLE-STRUCTURED-LOCATION;VALUE=URI;X-ADDRESS=Abbey End Car Park\, Abbey 
 End\, Kenilworth CV8 1JP;X-APPLE-RADIUS=72;X-TITLE=The Kenilworth Centre:5
 2.344216;-1.578651
END:VEVENT
END:VCALENDAR