BEGIN:VCALENDAR
VERSION:2.0
PRODID:Events Booking
BEGIN:VEVENT
UID:69ed1470eec89
SUMMARY:Cookery Classics: Online with Vanessa: Classic Scones with Jam and 
 Clotted Cream: All Ages
DESCRIPTION:
DTSTART:20200721T093000Z
DTEND:20200721T110000Z
DTSTAMP:20260425T202224Z
ORGANIZER;CN=ILEAP Charity:MAILTO:sparkle@ileap.co.uk
END:VEVENT
END:VCALENDAR