BEGIN:VCALENDAR
VERSION:2.0
PRODID:Events Booking
BEGIN:VEVENT
UID:69ed275d0252e
SUMMARY:Cookery Classics: Online with Charlie: Blueberry Muffins: All Ages
DESCRIPTION:
DTSTART:20200811T093000Z
DTEND:20200811T110000Z
DTSTAMP:20260425T214309Z
ORGANIZER;CN=ILEAP Charity:MAILTO:sparkle@ileap.co.uk
END:VEVENT
END:VCALENDAR