BEGIN:VCALENDAR
VERSION:2.0
PRODID:Events Booking
BEGIN:VEVENT
UID:69ed14aec73e5
SUMMARY:Cookery Classics: Online with Charlie: Cheese and Rosemary Biscuits
 : All Ages
DESCRIPTION:
DTSTART:20200728T093000Z
DTEND:20200728T110000Z
DTSTAMP:20260425T202326Z
ORGANIZER;CN=ILEAP Charity:MAILTO:sparkle@ileap.co.uk
END:VEVENT
END:VCALENDAR