BEGIN:VCALENDAR
VERSION:2.0
PRODID:Events Booking
BEGIN:VEVENT
UID:69ed3b67aafb3
SUMMARY:Cookery Classics: Online with Charlie: Classic Cheese Scones: All A
 ges
DESCRIPTION:
DTSTART:20200825T093000Z
DTEND:20200825T110000Z
DTSTAMP:20260425T230839Z
ORGANIZER;CN=ILEAP Charity:MAILTO:sparkle@ileap.co.uk
END:VEVENT
END:VCALENDAR